{
 "currentVersion": 10.81,
 "serviceDescription": "Webkarte in farbiger Darstellung auf Grundlage der DLM Daten des Landes NRW und der Informationen aus dem Kataster der Stadt Gelsenkirchen (Gebäude und Hausnummern).",
 "mapName": "Webkarte Stadt GE",
 "description": "",
 "copyrightText": "© Land NRW, © Stadt Gelsenkirchen (2020), Datenlizenz Deutschland – Zero – Version 2.0 (www.govdata.de/dl-de/zero-2-0)",
 "supportsDynamicLayers": false,
 "layers": [
  {
   "id": 0,
   "name": "Webkarte Stadt GE",
   "parentLayerId": -1,
   "defaultVisibility": true,
   "subLayerIds": null,
   "minScale": 0,
   "maxScale": 0,
   "type": "Feature Layer",
   "geometryType": "esriGeometryPolygon"
  }
 ],
 "tables": [],
 "spatialReference": {
  "wkid": 25832,
  "latestWkid": 25832
 },
 "singleFusedMapCache": true,
 "tileInfo": {
  "rows": 256,
  "cols": 256,
  "dpi": 96,
  "format": "PNG",
  "compressionQuality": 0,
  "origin": {
   "x": -5120900,
   "y": 9998100
  },
  "spatialReference": {
   "wkid": 25832,
   "latestWkid": 25832
  },
  "lods": [
   {
    "level": 0,
    "resolution": 26.458386250105836,
    "scale": 100000
   },
   {
    "level": 1,
    "resolution": 13.229193125052918,
    "scale": 50000
   },
   {
    "level": 2,
    "resolution": 6.614596562526459,
    "scale": 25000
   },
   {
    "level": 3,
    "resolution": 2.6458386250105836,
    "scale": 10000
   },
   {
    "level": 4,
    "resolution": 1.3229193125052918,
    "scale": 5000
   },
   {
    "level": 5,
    "resolution": 0.5291677250021167,
    "scale": 2000
   },
   {
    "level": 6,
    "resolution": 0.26458386250105836,
    "scale": 1000
   },
   {
    "level": 7,
    "resolution": 0.13229193125052918,
    "scale": 500
   }
  ]
 },
 "initialExtent": {
  "xmin": 357303.75761513173,
  "ymin": 5709041.032009106,
  "xmax": 388240.8105795321,
  "ymax": 5717601.145085607,
  "spatialReference": {
   "wkid": 25832,
   "latestWkid": 25832
  }
 },
 "fullExtent": {
  "xmin": 345765.36236543115,
  "ymin": 5699710.551910404,
  "xmax": 383865.4385662079,
  "ymax": 5724978.310791014,
  "spatialReference": {
   "wkid": 25832,
   "latestWkid": 25832
  }
 },
 "minScale": 100000,
 "maxScale": 450,
 "units": "esriMeters",
 "supportedImageFormatTypes": "PNG32,PNG24,PNG,JPG,DIB,TIFF,EMF,PS,PDF,GIF,SVG,SVGZ,BMP",
 "documentInfo": {
  "Title": "Webkarte Stadt GE",
  "Author": "Stadt Gelsenkirchen",
  "Comments": "Webkarte in farbiger Darstellung auf Grundlage der DLM Daten des Landes NRW und der Informationen aus dem Kataster der Stadt Gelsenkirchen (Gebäude und Hausnummern).",
  "Subject": "Webkarte Stadt GE",
  "Category": "",
  "AntialiasingMode": "None",
  "TextAntialiasingMode": "Force",
  "Keywords": "Webkarte"
 },
 "capabilities": "Map,Query,Data",
 "supportedQueryFormats": "JSON",
 "exportTilesAllowed": false,
 "referenceScale": 0,
 "supportsDatumTransformation": true,
 "maxRecordCount": 1000,
 "maxImageHeight": 4096,
 "maxImageWidth": 4096,
 "supportedExtensions": "WMSServer"
}
